BEGIN:VCALENDAR
VERSION:2.0
PRODID:icalendar-ruby
CALSCALE:GREGORIAN
METHOD:PUBLISH
BEGIN:VEVENT
DTSTAMP:20260420T082111Z
UID:79-209401@gcapatriots.org
DTSTART;VALUE=DATE:20270124
DTEND;VALUE=DATE:20270126
CLASS:PUBLIC
CREATED:20260415T121721
DESCRIPTION:
LAST-MODIFIED:20260415T121721
LOCATION:
SUMMARY:Winter Revival at GBC-Growing by the Word
URL;VALUE=URI:https://www.gcapatriots.org/events/winter-revival-at-gbc-grow
 ing-by-the-word/2027-01-24
END:VEVENT
END:VCALENDAR
