BEGIN:VCALENDAR
VERSION:2.0
PRODID:icalendar-ruby
CALSCALE:GREGORIAN
METHOD:PUBLISH
BEGIN:VEVENT
DTSTAMP:20260420T080432Z
UID:87-209411@gcapatriots.org
DTSTART;VALUE=DATE:20270322
DTEND;VALUE=DATE:20270326
CLASS:PUBLIC
CREATED:20260415T122730
DESCRIPTION:
LAST-MODIFIED:20260415T122730
LOCATION:
SUMMARY:Spring Break
URL;VALUE=URI:https://www.gcapatriots.org/events/spring-break--87/2027-03-2
 2
END:VEVENT
END:VCALENDAR
