BEGIN:VCALENDAR
VERSION:2.0
PRODID:icalendar-ruby
CALSCALE:GREGORIAN
METHOD:PUBLISH
BEGIN:VEVENT
DTSTAMP:20260420T064819Z
UID:103-209433@gcapatriots.org
DTSTART:20270522T200000Z
DTEND:20270522T220000Z
CLASS:PUBLIC
CREATED:20260415T130556
DESCRIPTION:
LAST-MODIFIED:20260415T130556
LOCATION:
SUMMARY:Senior Graduation 
URL;VALUE=URI:https://www.gcapatriots.org/events/senior-graduation--103/202
 7-05-22
END:VEVENT
END:VCALENDAR
