BEGIN:VCALENDAR
VERSION:2.0
PRODID:icalendar-ruby
CALSCALE:GREGORIAN
METHOD:PUBLISH
BEGIN:VEVENT
DTSTAMP:20260420T064701Z
UID:107-209439@gcapatriots.org
DTSTART;VALUE=DATE:20270518
DTEND;VALUE=DATE:20270518
CLASS:PUBLIC
CREATED:20260416T142126
DESCRIPTION:
LAST-MODIFIED:20260416T142126
LOCATION:
SUMMARY:Senior Dinner
URL;VALUE=URI:https://www.gcapatriots.org/events/senior-dinner--107/2027-05
 -18
END:VEVENT
END:VCALENDAR
