BEGIN:VCALENDAR
VERSION:2.0
PRODID:icalendar-ruby
CALSCALE:GREGORIAN
METHOD:PUBLISH
BEGIN:VEVENT
DTSTAMP:20260420T082255Z
UID:89-209420@gcapatriots.org
DTSTART:20270423T230000Z
DTEND:20270424T003000Z
CLASS:PUBLIC
CREATED:20260415T124133
DESCRIPTION:
LAST-MODIFIED:20260415T124133
LOCATION:
SUMMARY:Secondary Fine Arts
URL;VALUE=URI:https://www.gcapatriots.org/events/secondary-fine-arts--89/20
 27-04-23
END:VEVENT
END:VCALENDAR
