BEGIN:VCALENDAR
VERSION:2.0
PRODID:icalendar-ruby
CALSCALE:GREGORIAN
METHOD:PUBLISH
BEGIN:VEVENT
DTSTAMP:20260420T064645Z
UID:102-209438@gcapatriots.org
DTSTART:20270522T001500Z
DTEND:20270522T010000Z
CLASS:PUBLIC
CREATED:20260415T131308
DESCRIPTION:
LAST-MODIFIED:20260415T131308
LOCATION:
SUMMARY:Secondary Awards Program 
URL;VALUE=URI:https://www.gcapatriots.org/events/secondary-awards-program--
 102/2027-05-21
END:VEVENT
END:VCALENDAR
