BEGIN:VCALENDAR
VERSION:2.0
PRODID:icalendar-ruby
CALSCALE:GREGORIAN
METHOD:PUBLISH
BEGIN:VEVENT
DTSTAMP:20260420T080327Z
UID:77-209399@gcapatriots.org
DTSTART;VALUE=DATE:20270105
DTEND;VALUE=DATE:20270105
CLASS:PUBLIC
CREATED:20260415T121523
DESCRIPTION:
LAST-MODIFIED:20260415T121523
LOCATION:
SUMMARY:School Resumes - Second Semester
URL;VALUE=URI:https://www.gcapatriots.org/events/school-resumes-second-seme
 ster/2027-01-05
END:VEVENT
END:VCALENDAR
