BEGIN:VCALENDAR
VERSION:2.0
PRODID:icalendar-ruby
CALSCALE:GREGORIAN
METHOD:PUBLISH
BEGIN:VEVENT
DTSTAMP:20260420T080432Z
UID:90-209414@gcapatriots.org
DTSTART;VALUE=DATE:20270426
DTEND;VALUE=DATE:20270429
CLASS:PUBLIC
CREATED:20260415T122918
DESCRIPTION:
LAST-MODIFIED:20260415T122918
LOCATION:
SUMMARY:SAT Testing 1-12 Grade
URL;VALUE=URI:https://www.gcapatriots.org/events/sat-testing-1-12-grade--90
 /2027-04-26
END:VEVENT
END:VCALENDAR
