BEGIN:VCALENDAR
VERSION:2.0
PRODID:icalendar-ruby
CALSCALE:GREGORIAN
METHOD:PUBLISH
BEGIN:VEVENT
DTSTAMP:20260420T080503Z
UID:92-209421@gcapatriots.org
DTSTART;VALUE=DATE:20270511
DTEND;VALUE=DATE:20270511
CLASS:PUBLIC
CREATED:20260415T124201
DESCRIPTION:
LAST-MODIFIED:20260415T124201
LOCATION:
SUMMARY:Pre-K & Kinder-Half Day & Last Day
URL;VALUE=URI:https://www.gcapatriots.org/events/pre-k-kinder-half-day-last
 -day--92/2027-05-11
END:VEVENT
END:VCALENDAR
