BEGIN:VCALENDAR
VERSION:2.0
PRODID:icalendar-ruby
CALSCALE:GREGORIAN
METHOD:PUBLISH
BEGIN:VEVENT
DTSTAMP:20260420T081505Z
UID:94-209422@gcapatriots.org
DTSTART;VALUE=DATE:20270511
DTEND;VALUE=DATE:20270511
CLASS:PUBLIC
CREATED:20260415T124256
DESCRIPTION:
LAST-MODIFIED:20260415T124256
LOCATION:
SUMMARY:Pre-K and Kindergarten Awards
URL;VALUE=URI:https://www.gcapatriots.org/events/pre-k-and-kindergarten-awa
 rds--93/2027-05-11
END:VEVENT
END:VCALENDAR
