BEGIN:VCALENDAR
VERSION:2.0
PRODID:icalendar-ruby
CALSCALE:GREGORIAN
METHOD:PUBLISH
BEGIN:VEVENT
DTSTAMP:20260420T080026Z
UID:104-209434@gcapatriots.org
DTSTART;VALUE=DATE:20270416
DTEND;VALUE=DATE:20270416
CLASS:PUBLIC
CREATED:20260415T130616
DESCRIPTION:
LAST-MODIFIED:20260415T130616
LOCATION:
SUMMARY:NO SHOOL 
URL;VALUE=URI:https://www.gcapatriots.org/events/no-shool/2027-04-16
END:VEVENT
END:VCALENDAR
