BEGIN:VCALENDAR
VERSION:2.0
PRODID:icalendar-ruby
CALSCALE:GREGORIAN
METHOD:PUBLISH
BEGIN:VEVENT
DTSTAMP:20260420T083457Z
UID:81-209403@gcapatriots.org
DTSTART;VALUE=DATE:20270215
DTEND;VALUE=DATE:20270215
CLASS:PUBLIC
CREATED:20260415T122034
DESCRIPTION:
LAST-MODIFIED:20260415T122034
LOCATION:
SUMMARY:NO SCHOOL - Presidents' Day
URL;VALUE=URI:https://www.gcapatriots.org/events/no-school-presidents-day--
 81/2027-02-15
END:VEVENT
END:VCALENDAR
