BEGIN:VCALENDAR
VERSION:2.0
PRODID:icalendar-ruby
CALSCALE:GREGORIAN
METHOD:PUBLISH
BEGIN:VEVENT
DTSTAMP:20260420T080654Z
UID:78-209400@gcapatriots.org
DTSTART;VALUE=DATE:20270118
DTEND;VALUE=DATE:20270118
CLASS:PUBLIC
CREATED:20260415T121612
DESCRIPTION:
LAST-MODIFIED:20260415T121612
LOCATION:
SUMMARY:NO SCHOOL - MLK Day
URL;VALUE=URI:https://www.gcapatriots.org/events/no-school-mlk-day/2027-01-
 18
END:VEVENT
END:VCALENDAR
