BEGIN:VCALENDAR
VERSION:2.0
PRODID:icalendar-ruby
CALSCALE:GREGORIAN
METHOD:PUBLISH
BEGIN:VEVENT
DTSTAMP:20260424T081644Z
UID:88-209412@gcapatriots.org
DTSTART;VALUE=DATE:20270324
DTEND;VALUE=DATE:20270324
CLASS:PUBLIC
CREATED:20260415T122757
DESCRIPTION:
LAST-MODIFIED:20260415T122757
LOCATION:
SUMMARY:No Master Clubs or Church Service at GBC
URL;VALUE=URI:https://www.gcapatriots.org/events/no-master-clubs-or-church-
 service-at-gbc--88/2027-03-24
END:VEVENT
END:VCALENDAR
