BEGIN:VCALENDAR
VERSION:2.0
PRODID:icalendar-ruby
CALSCALE:GREGORIAN
METHOD:PUBLISH
BEGIN:VEVENT
DTSTAMP:20260420T083457Z
UID:82-209405@gcapatriots.org
DTSTART;VALUE=DATE:20270217
DTEND;VALUE=DATE:20270217
CLASS:PUBLIC
CREATED:20260415T122155
DESCRIPTION:
LAST-MODIFIED:20260415T122155
LOCATION:
SUMMARY:No Master Clubs or Church Service at GBC
URL;VALUE=URI:https://www.gcapatriots.org/events/no-master-clubs-or-church-
 service-at-gbc--82/2027-02-17
END:VEVENT
END:VCALENDAR
