BEGIN:VCALENDAR
VERSION:2.0
PRODID:icalendar-ruby
CALSCALE:GREGORIAN
METHOD:PUBLISH
BEGIN:VEVENT
DTSTAMP:20260420T083151Z
UID:80-209402@gcapatriots.org
DTSTART;VALUE=DATE:20270127
DTEND;VALUE=DATE:20270127
CLASS:PUBLIC
CREATED:20260415T121826
DESCRIPTION:
LAST-MODIFIED:20260415T121826
LOCATION:
SUMMARY:No Master Clubs or Church Service at GBC
URL;VALUE=URI:https://www.gcapatriots.org/events/no-master-clubs-or-church-
 service-at-gbc--80/2027-01-27
END:VEVENT
END:VCALENDAR
