BEGIN:VCALENDAR
VERSION:2.0
PRODID:icalendar-ruby
CALSCALE:GREGORIAN
METHOD:PUBLISH
BEGIN:VEVENT
DTSTAMP:20260424T081622Z
UID:83-209406@gcapatriots.org
DTSTART;VALUE=DATE:20270219
DTEND;VALUE=DATE:20270221
CLASS:PUBLIC
CREATED:20260415T122336
DESCRIPTION:
LAST-MODIFIED:20260415T122336
LOCATION:
SUMMARY:Mental\, Emotional & Spiritual Health Clinic at GBC
URL;VALUE=URI:https://www.gcapatriots.org/events/mental-emotional-spiritual
 -health-clinic-at-gbc/2027-02-19
END:VEVENT
END:VCALENDAR
