BEGIN:VCALENDAR
VERSION:2.0
PRODID:icalendar-ruby
CALSCALE:GREGORIAN
METHOD:PUBLISH
BEGIN:VEVENT
DTSTAMP:20260420T065235Z
UID:97-209426@gcapatriots.org
DTSTART;VALUE=DATE:20270514
DTEND;VALUE=DATE:20270514
CLASS:PUBLIC
CREATED:20260415T124557
DESCRIPTION:
LAST-MODIFIED:20260415T124557
LOCATION:
SUMMARY:Last Day of School for 1-3 Grade
URL;VALUE=URI:https://www.gcapatriots.org/events/last-day-of-school-for-1-3
 -grade/2027-05-14
END:VEVENT
END:VCALENDAR
