BEGIN:VCALENDAR
VERSION:2.0
PRODID:icalendar-ruby
CALSCALE:GREGORIAN
METHOD:PUBLISH
BEGIN:VEVENT
DTSTAMP:20260420T080327Z
UID:95-209423@gcapatriots.org
DTSTART;VALUE=DATE:20270511
DTEND;VALUE=DATE:20270511
CLASS:PUBLIC
CREATED:20260415T124327
DESCRIPTION:
LAST-MODIFIED:20260415T124327
LOCATION:
SUMMARY:Kindergarten Graduation
URL;VALUE=URI:https://www.gcapatriots.org/events/kindergarten-graduation--9
 5/2027-05-11
END:VEVENT
END:VCALENDAR
