BEGIN:VCALENDAR
VERSION:2.0
PRODID:icalendar-ruby
CALSCALE:GREGORIAN
METHOD:PUBLISH
BEGIN:VEVENT
DTSTAMP:20260420T065352Z
UID:99-209429@gcapatriots.org
DTSTART;VALUE=DATE:20270519
DTEND;VALUE=DATE:20270519
CLASS:PUBLIC
CREATED:20260415T124926
DESCRIPTION:
LAST-MODIFIED:20260415T124926
LOCATION:
SUMMARY:Half Day - Last Day of School for 4-12 Grade
URL;VALUE=URI:https://www.gcapatriots.org/events/half-day-last-day-of-schoo
 l-for-4-12-grade/2027-05-19
END:VEVENT
END:VCALENDAR
