BEGIN:VCALENDAR
VERSION:2.0
PRODID:icalendar-ruby
CALSCALE:GREGORIAN
METHOD:PUBLISH
BEGIN:VEVENT
DTSTAMP:20260420T083238Z
UID:91-209415@gcapatriots.org
DTSTART:20270430T170000Z
DTEND:20270430T170000Z
CLASS:PUBLIC
CREATED:20260415T122953
DESCRIPTION:
LAST-MODIFIED:20260415T122953
LOCATION:
SUMMARY:Half Day - All Students Dismiss at Noon
URL;VALUE=URI:https://www.gcapatriots.org/events/half-day-all-students-dism
 iss-at-noon--91/2027-04-30
END:VEVENT
END:VCALENDAR
