BEGIN:VCALENDAR
VERSION:2.0
PRODID:icalendar-ruby
CALSCALE:GREGORIAN
METHOD:PUBLISH
BEGIN:VEVENT
DTSTAMP:20260420T085649Z
UID:86-209410@gcapatriots.org
DTSTART:20270319T170000Z
DTEND:20270319T170000Z
CLASS:PUBLIC
CREATED:20260415T122610
DESCRIPTION:
LAST-MODIFIED:20260415T122610
LOCATION:
SUMMARY:Half Day - All Students Dismiss at Noon
URL;VALUE=URI:https://www.gcapatriots.org/events/half-day-all-students-dism
 iss-at-noon--86/2027-03-19
END:VEVENT
END:VCALENDAR
