BEGIN:VCALENDAR
VERSION:2.0
PRODID:icalendar-ruby
CALSCALE:GREGORIAN
METHOD:PUBLISH
BEGIN:VEVENT
DTSTAMP:20260424T081333Z
UID:85-209409@gcapatriots.org
DTSTART;VALUE=DATE:20270317
DTEND;VALUE=DATE:20270321
CLASS:PUBLIC
CREATED:20260415T122537
DESCRIPTION:
LAST-MODIFIED:20260415T122537
LOCATION:
SUMMARY:GBC's 37th Annual Missions Conference 
URL;VALUE=URI:https://www.gcapatriots.org/events/gbcs-37th-annual-missions-
 conference/2027-03-17
END:VEVENT
END:VCALENDAR
