BEGIN:VCALENDAR
VERSION:2.0
PRODID:icalendar-ruby
CALSCALE:GREGORIAN
METHOD:PUBLISH
BEGIN:VEVENT
DTSTAMP:20260424T082318Z
UID:106-209436@gcapatriots.org
DTSTART;VALUE=DATE:20270430
DTEND;VALUE=DATE:20270501
CLASS:PUBLIC
CREATED:20260415T131043
DESCRIPTION:
LAST-MODIFIED:20260415T131043
LOCATION:
SUMMARY:GBC Marriage Retreat
URL;VALUE=URI:https://www.gcapatriots.org/events/gbc-marriage-retreat/2027-
 04-30
END:VEVENT
END:VCALENDAR
