BEGIN:VCALENDAR
VERSION:2.0
PRODID:icalendar-ruby
CALSCALE:GREGORIAN
METHOD:PUBLISH
BEGIN:VEVENT
DTSTAMP:20260420T064814Z
UID:98-209428@gcapatriots.org
DTSTART:20270517T130000Z
DTEND:20270518T160000Z
CLASS:PUBLIC
CREATED:20260415T124757
DESCRIPTION:
LAST-MODIFIED:20260415T124757
LOCATION:
SUMMARY:Final Exams for 4-12 Grade 
URL;VALUE=URI:https://www.gcapatriots.org/events/final-exams-for-4-12-grade
 /2027-05-17
END:VEVENT
END:VCALENDAR
