BEGIN:VCALENDAR
VERSION:2.0
PRODID:icalendar-ruby
CALSCALE:GREGORIAN
METHOD:PUBLISH
BEGIN:VEVENT
DTSTAMP:20260420T082723Z
UID:84-209407@gcapatriots.org
DTSTART:20270227T003000Z
DTEND:20270227T013000Z
CLASS:PUBLIC
CREATED:20260415T122417
DESCRIPTION:
LAST-MODIFIED:20260415T122417
LOCATION:
SUMMARY:Elementary Fine Arts Program
URL;VALUE=URI:https://www.gcapatriots.org/events/elementary-fine-arts-progr
 am--84/2027-02-26
END:VEVENT
END:VCALENDAR
