BEGIN:VCALENDAR
VERSION:2.0
PRODID:icalendar-ruby
CALSCALE:GREGORIAN
METHOD:PUBLISH
BEGIN:VEVENT
DTSTAMP:20260420T064532Z
UID:101-209437@gcapatriots.org
DTSTART:20270521T231500Z
DTEND:20270522T000000Z
CLASS:PUBLIC
CREATED:20260415T131244
DESCRIPTION:
LAST-MODIFIED:20260415T131244
LOCATION:
SUMMARY:Elementary Awards Program
URL;VALUE=URI:https://www.gcapatriots.org/events/elementary-awards-program-
 -101/2027-05-21
END:VEVENT
END:VCALENDAR
