BEGIN:VCALENDAR
VERSION:2.0
PRODID:icalendar-ruby
CALSCALE:GREGORIAN
METHOD:PUBLISH
BEGIN:VEVENT
DTSTAMP:20260420T065106Z
UID:96-209424@gcapatriots.org
DTSTART:20270514T131500Z
DTEND:20270514T141500Z
CLASS:PUBLIC
CREATED:20260415T124445
DESCRIPTION:
LAST-MODIFIED:20260415T124445
LOCATION:
SUMMARY:Character Trait Awards Chapel (1-6 Grade)
URL;VALUE=URI:https://www.gcapatriots.org/events/character-trait-awards-cha
 pel-1-6-grade/2027-05-14
END:VEVENT
END:VCALENDAR
